BEGIN:VCALENDAR
VERSION:2.0
PRODID:-//Webcam Greiz - ECPv6.15.20//NONSGML v1.0//EN
CALSCALE:GREGORIAN
METHOD:PUBLISH
X-ORIGINAL-URL:https://www.webcam-greiz.de
X-WR-CALDESC:Veranstaltungen für Webcam Greiz
REFRESH-INTERVAL;VALUE=DURATION:PT1H
X-Robots-Tag:noindex
X-PUBLISHED-TTL:PT1H
BEGIN:VTIMEZONE
TZID:Europe/Zurich
BEGIN:DAYLIGHT
TZOFFSETFROM:+0100
TZOFFSETTO:+0200
TZNAME:CEST
DTSTART:20220327T010000
END:DAYLIGHT
BEGIN:STANDARD
TZOFFSETFROM:+0200
TZOFFSETTO:+0100
TZNAME:CET
DTSTART:20221030T010000
END:STANDARD
BEGIN:DAYLIGHT
TZOFFSETFROM:+0100
TZOFFSETTO:+0200
TZNAME:CEST
DTSTART:20230326T010000
END:DAYLIGHT
BEGIN:STANDARD
TZOFFSETFROM:+0200
TZOFFSETTO:+0100
TZNAME:CET
DTSTART:20231029T010000
END:STANDARD
BEGIN:DAYLIGHT
TZOFFSETFROM:+0100
TZOFFSETTO:+0200
TZNAME:CEST
DTSTART:20240331T010000
END:DAYLIGHT
BEGIN:STANDARD
TZOFFSETFROM:+0200
TZOFFSETTO:+0100
TZNAME:CET
DTSTART:20241027T010000
END:STANDARD
END:VTIMEZONE
BEGIN:VEVENT
DTSTART;TZID=Europe/Zurich:20230204T200000
DTEND;TZID=Europe/Zurich:20230205T005900
DTSTAMP:20260420T083358
CREATED:20221222T121821Z
LAST-MODIFIED:20221222T133034Z
UID:4924-1675540800-1675558740@www.webcam-greiz.de
SUMMARY:Ladies Night
DESCRIPTION:Ladies Night\nDich erwartet ein Mädelsabend mit attraktiven Shoppingangeboten von Beauty bis Tupper\, Dekorationen\, Toys & vieles Mehr. \nLive Vorführungen | Musik mit DJ Philipp
URL:https://www.webcam-greiz.de/event/ladies-night
LOCATION:FES 25\, Das Medienwerk\, Fritz-Ebert-Str. 25\, Greiz\, Thüringen\, 07973
END:VEVENT
END:VCALENDAR